BEGIN:VCALENDAR
VERSION:2.0
PRODID:-//Extinction Rebellion Boston//Action//
BEGIN:VEVENT
SUMMARY:Cancelled: Drop in Art Build at the Puppet Free Library
DTSTART:20240409T210000Z
DTEND:20240409T230000Z
DTSTAMP:20260425T181923Z
UID:1785@https://xrboston.org
CREATED:20260425T181923Z
DESCRIPTION:Event details: https://xrboston.org/action/drop-in-art-build-a
 t-the-puppet-free-library-49/\n\nPlease join us at the next art build!
LAST-MODIFIED:20240409T201428Z
LOCATION:Puppet Free Library
ORGANIZER;CN="Extinction Rebellion Boston":MAILTO:outreach@xrboston.org
URL:https://xrboston.org/action/drop-in-art-build-at-the-puppet-free-libra
 ry-49/
END:VEVENT
END:VCALENDAR
