BEGIN:VCALENDAR
VERSION:2.0
PRODID:-//Extinction Rebellion Boston//Action//
BEGIN:VEVENT
SUMMARY:Drop in Art Build at the Puppet Free Library
DTSTART:20230509T210000Z
DTEND:20230509T230000Z
DTSTAMP:20260421T234552Z
UID:1519@https://xrboston.org
CREATED:20260421T234552Z
DESCRIPTION:Event details: https://xrboston.org/action/drop-in-art-build-a
 t-the-puppet-free-library-59/\n\nDrop in between 5pm and 8pm this Tues. at
  the Puppet Free Library in the Back Bay and help make protest art for upc
 oming events with fellow rebels! We will supply the materials\, you bring 
 your enthusiasm and love for our planet (art skills not necessary!).
LAST-MODIFIED:20230509T031614Z
LOCATION:Puppet Free Library
ORGANIZER;CN="Extinction Rebellion Boston":MAILTO:outreach@xrboston.org
URL:https://xrboston.org/action/drop-in-art-build-at-the-puppet-free-libra
 ry-59/
END:VEVENT
END:VCALENDAR
