BEGIN:VCALENDAR
VERSION:2.0
PRODID:-//Extinction Rebellion Boston//Action//
BEGIN:VEVENT
SUMMARY:Drop-In Tuesday Evening Art Build at the Puppet Free Library
DTSTART:20230711T210000Z
DTEND:20230711T230000Z
DTSTAMP:20260425T160815Z
UID:1564@https://xrboston.org
CREATED:20260425T160815Z
DESCRIPTION:Event details: https://xrboston.org/action/drop-in-art-july11/
 \n\nDrop in between 5pm and 8pm at the Puppet Free Library in the Back Bay
  and help make protest art for with fellow rebels! We will supply the mate
 rials\, you bring your enthusiasm and love for our planet (art skills not 
 necessary!).
LAST-MODIFIED:20230625T221632Z
LOCATION:Puppet Free Library\, 15 Public Alley 437\, Boston\, MA 02116
ORGANIZER;CN="Extinction Rebellion Boston":MAILTO:outreach@xrboston.org
URL:https://xrboston.org/action/drop-in-art-july11/
END:VEVENT
END:VCALENDAR
