BEGIN:VCALENDAR
VERSION:2.0
PRODID:-//Extinction Rebellion Boston//Action//
BEGIN:VEVENT
SUMMARY:Drop-In Tuesday Evening Art Build at the Puppet Free Library
DTSTART:20230613T210000Z
DTEND:20230613T230000Z
DTSTAMP:20260419T143109Z
UID:1541@https://xrboston.org
CREATED:20260419T143109Z
DESCRIPTION:Event details: https://xrboston.org/action/drop-in-art-june13/
 \n\nDrop in between 5pm and 8pm at the Puppet Free Library in the Back Bay
  and help make protest art for the State House Standouts and other actions
  with fellow rebels! We will supply the materials\, you bring your enthusi
 asm and love for our planet (art skills not necessary!).
LAST-MODIFIED:20230607T094813Z
LOCATION:Puppet Free Library\, 15 Public Alley 437 # 437\, Boston\, MA 021
 16
ORGANIZER;CN="Extinction Rebellion Boston":MAILTO:outreach@xrboston.org
URL:https://xrboston.org/action/drop-in-art-june13/
END:VEVENT
END:VCALENDAR
