BEGIN:VCALENDAR
VERSION:2.0
PRODID:-//Extinction Rebellion Boston//Action//
BEGIN:VEVENT
SUMMARY:Drop-in Tuesday Evening Art Build at the Puppet Free Library
DTSTART:20230516T210000Z
DTEND:20230516T230000Z
DTSTAMP:20260421T233740Z
UID:1520@https://xrboston.org
CREATED:20260421T233740Z
DESCRIPTION:Event details: https://xrboston.org/action/drop-in-art-may16/\
 n\nDrop in between 5pm and 8pm at the Puppet Free Library in the Back Bay 
 and help make protest art for upcoming events with fellow rebels! We will 
 supply the materials\, you bring your enthusiasm and love for our planet (
 art skills not necessary!).
LAST-MODIFIED:20230509T133816Z
LOCATION:Puppet Free Library
ORGANIZER;CN="Extinction Rebellion Boston":MAILTO:outreach@xrboston.org
URL:https://xrboston.org/action/drop-in-art-may16/
END:VEVENT
END:VCALENDAR
