BEGIN:VCALENDAR
VERSION:2.0
PRODID:-//Extinction Rebellion Boston//Action//
BEGIN:VEVENT
SUMMARY:Dying for Climate Action
DTSTART:20220201T223000Z
DTEND:20220202T003000Z
DTSTAMP:20260425T034838Z
UID:1029@https://xrboston.org
CREATED:20260425T034838Z
DESCRIPTION:Event details: https://xrboston.org/action/dying-for-climate-a
 ction-3/\n\nJoin us for another die-in to warn about the worst effects of 
 the climate crisis. We are heading for extinction and need to act now.\n\n
 COP26 just produced blah blah blah. The Paris Climate Agreement targets wi
 ll not prevent the climate breakdown. In August 2021\, Rebels associated w
 ith Scientists Rebellion Spain leaked a portion of the 2022 IPCC report. W
 e are warned that greenhouse gas emissions must peak within 4 years to pre
 vent climate breakdown. High-income countries are producing 10 times the a
 mount of emissions as the poorest countries.\n\nWe meet at Copley Square P
 ark (Boyleston St @ Dartmouth St). If you have another tarp to keep the sa
 lt and snow dirt off our clothes\, please feel free to bring it.
LAST-MODIFIED:20220131T213037Z
LOCATION:Copley Square Park
ORGANIZER;CN="Extinction Rebellion Boston":MAILTO:outreach@xrboston.org
URL:https://xrboston.org/action/dying-for-climate-action-3/
END:VEVENT
END:VCALENDAR
