BEGIN:VCALENDAR
VERSION:2.0
PRODID:-//Extinction Rebellion Boston//Action//
BEGIN:VEVENT
SUMMARY:Dying for Climate Action with the Red Rebels
DTSTART:20220405T213000Z
DTEND:20220405T233000Z
DTSTAMP:20260420T203207Z
UID:1057@https://xrboston.org
CREATED:20260420T203207Z
DESCRIPTION:Event details: https://xrboston.org/action/dying-for-climate-a
 ction-5/\n\nJoin us for another die-in to warn about the worst effects of 
 the climate crisis. We are heading for extinction and need to act now. The
  Red Rebel Brigade will be with us.\n\nCOP26 just produced blah blah blah.
  The Paris Climate Agreement targets will not prevent the climate breakdow
 n. In August 2021\, Rebels associated with Scientists Rebellion Spain leak
 ed a portion of the 2022 IPCC report. We are warned that greenhouse gas em
 issions must peak within 4 years to prevent climate breakdown. High-income
  countries are producing 10 times the amount of emissions as the poorest c
 ountries.\n\nThe location is weather dependent and will be announced brief
 ly before the event. Please sign up below to receive all the necessary det
 ails!
LAST-MODIFIED:20220404T002208Z
LOCATION:Government center T stop
ORGANIZER;CN="Extinction Rebellion Boston":MAILTO:outreach@xrboston.org
URL:https://xrboston.org/action/dying-for-climate-action-5/
END:VEVENT
END:VCALENDAR
