BEGIN:VCALENDAR
VERSION:2.0
PRODID:-//Extinction Rebellion Boston//Action//
BEGIN:VEVENT
SUMMARY:Dying for Climate Action
DTSTART:20230412T213000Z
DTEND:20230412T233000Z
DTSTAMP:20260421T120445Z
UID:1465@https://xrboston.org
CREATED:20260421T120445Z
DESCRIPTION:Event details: https://xrboston.org/action/dying-for-climate-a
 ction-apr23/\n\nJoin us for another die-in to warn about the worst effects
  of the climate crisis. We are heading for extinction and need to act now.
 \n\nExtinction Rebellion Boston holds a monthly die-in in public areas aro
 und Boston to raise awareness about the climate and ecological crises. We 
 aim to mobilize the public to demand the systemic change necessary to ensu
 re a safe and habitable Earth for all.  \n\nA die-in is a peaceful\, non-v
 iolent protest wherein participants lie on the ground for a specified amou
 nt of time: a solemn act that symbolizes the kind of future we face with t
 he current inaction on the climate crisis. Join us in highlighting the dis
 tinct possibility of the human race becoming extinct as a result of the pl
 anet overheating.
LAST-MODIFIED:20230412T152146Z
LOCATION:Outside Park Street station
ORGANIZER;CN="Extinction Rebellion Boston":MAILTO:outreach@xrboston.org
URL:https://xrboston.org/action/dying-for-climate-action-apr23/
END:VEVENT
END:VCALENDAR
