BEGIN:VCALENDAR
VERSION:2.0
PRODID:-//Extinction Rebellion Boston//Action//
BEGIN:VEVENT
SUMMARY:Dying for climate action
DTSTART:20230207T223000Z
DTEND:20230208T003000Z
DTSTAMP:20260422T100941Z
UID:1420@https://xrboston.org
CREATED:20260422T100941Z
DESCRIPTION:Event details: https://xrboston.org/action/dying-for-climate-a
 ction-feb2023/\n\n### Meet us in Harvard Square just outside the T stop fo
 r this month's die-in! \nJoin us for another die-in to warn about the wors
 t effects of the climate crisis. We are heading for extinction and need to
  act now.\n\nExtinction Rebellion Boston holds a monthly die-in in public 
 areas around Boston to raise awareness about the climate and ecological cr
 ises. We aim to mobilize the public to demand the systemic change necessar
 y to ensure a safe and habitable Earth for all.  \n\nA die-in is a peacefu
 l\, non-violent protest wherein participants lie on the ground for a speci
 fied amount of time: a solemn act that symbolizes the kind of future we fa
 ce with the current inaction on the climate crisis. Join us in highlightin
 g the distinct possibility of the human race becoming extinct as a result 
 of the planet overheating.
LAST-MODIFIED:20230206T235910Z
LOCATION:Harvard Square
ORGANIZER;CN="Extinction Rebellion Boston":MAILTO:outreach@xrboston.org
URL:https://xrboston.org/action/dying-for-climate-action-feb2023/
END:VEVENT
END:VCALENDAR
