BEGIN:VCALENDAR
VERSION:2.0
PRODID:-//Extinction Rebellion Boston//Action//
BEGIN:VEVENT
SUMMARY:Dying for Climate Action with the RED REBELS!
DTSTART:20230705T213000Z
DTEND:20230705T233000Z
DTSTAMP:20260425T160841Z
UID:1502@https://xrboston.org
CREATED:20260425T160841Z
DESCRIPTION:Event details: https://xrboston.org/action/dying-for-climate-a
 ction-jul23/\n\nJoin us for another die-in to warn about the worst effects
  of the climate crisis. This will be a special die-in because we'll be joi
 ned by the Red Rebels!  Along with our brass band\, we're sure to capture 
 a lot of attention.\n\nExtinction Rebellion Boston holds a monthly die-in 
 in public areas around Boston to raise awareness about the climate and eco
 logical crises. We aim to mobilize the public to demand the systemic chang
 e necessary to ensure a safe and habitable Earth for all.\n\nA die-in is a
  peaceful\, non-violent protest wherein participants lie on the ground for
  a specified amount of time: a solemn act that symbolizes the kind of futu
 re we face with the current inaction on the climate crisis. Join us in hig
 hlighting the distinct possibility of the human race becoming extinct as a
  result of the planet overheating.
LAST-MODIFIED:20230704T201625Z
LOCATION:Meet us in front of the Boston Main Library on Dartmouth Street\,
  right on Copley Square!
ORGANIZER;CN="Extinction Rebellion Boston":MAILTO:outreach@xrboston.org
URL:https://xrboston.org/action/dying-for-climate-action-jul23/
END:VEVENT
END:VCALENDAR
