BEGIN:VCALENDAR
VERSION:2.0
PRODID:-//Extinction Rebellion Boston//Action//
BEGIN:VEVENT
SUMMARY:Die-In 4 Change
DTSTART:20220920T203000Z
DTEND:20220920T223000Z
DTSTAMP:20260419T121142Z
UID:1262@https://xrboston.org
CREATED:20260419T121142Z
DESCRIPTION:Event details: https://xrboston.org/action/dying-for-climate-a
 ction-sept20/\n\nJoin us for a special Rebellion Week die-in to warn about
  the worst effects of the climate crisis. We are heading for extinction an
 d need to act now.\n\nThe climate is already breaking down. This summer\, 
 there has been record heat around the world. It is only a matter time befo
 re the western United States runs out of water. The recent climate legisla
 tion by our federal and state governments does not go far enough to mitiga
 te the heat. High-income countries are producing 10 times the amount of em
 issions as the poorest countries. We don't have any time to waste: We are 
 dying for climate action now!\n\nWe meet in front of the Government Center
  MBTA station at 4:30pm. Please sign up on this page to receive all the ne
 cessary details!
LAST-MODIFIED:20220903T180817Z
LOCATION:[Government Center](https://goo.gl/maps/8ZAAhTiPBvw8btJFA)
ORGANIZER;CN="Extinction Rebellion Boston":MAILTO:outreach@xrboston.org
URL:https://xrboston.org/action/dying-for-climate-action-sept20/
END:VEVENT
END:VCALENDAR
