BEGIN:VCALENDAR
VERSION:2.0
PRODID:-//Extinction Rebellion Boston//Action//
BEGIN:VEVENT
SUMMARY:Dying for Climate Action - new date and time
DTSTART:20230714T130000Z
DTEND:20230714T150000Z
DTSTAMP:20260425T160506Z
UID:1574@https://xrboston.org
CREATED:20260425T160506Z
DESCRIPTION:Event details: https://xrboston.org/action/dying-for-climate-a
 ctionjul13/\n\nJoin us for another die-in to warn about the worst effects 
 of the climate crisis. We are heading for extinction and need to act now.\
 n\nExtinction Rebellion Boston holds die-ins in public areas around Boston
  to raise awareness about the climate and ecological crises. We aim to mob
 ilize the public to demand the systemic change necessary to ensure a safe 
 and habitable Earth for all.\n\nA die-in is a peaceful\, non-violent prote
 st wherein participants lie on the ground for a specified amount of time: 
 a solemn act that symbolizes the kind of future we face with the current i
 naction on the climate crisis. You are encouraged to make short speeches t
 o express your ideas and feelings about climate change\, or to sing a song
  or recite a poem.
LAST-MODIFIED:20230709T121151Z
LOCATION:Sign up to receive location
ORGANIZER;CN="Extinction Rebellion Boston":MAILTO:outreach@xrboston.org
URL:https://xrboston.org/action/dying-for-climate-actionjul13/
END:VEVENT
END:VCALENDAR
