BEGIN:VCALENDAR
VERSION:2.0
PRODID:-//Extinction Rebellion Boston//Action//
BEGIN:VEVENT
SUMMARY:[Solidarity] Earth Day at the Weymouth Compressor Station
DTSTART:20220423T140000Z
DTEND:20220423T160000Z
DTSTAMP:20260420T204358Z
UID:1063@https://xrboston.org
CREATED:20260420T204358Z
DESCRIPTION:Event details: https://xrboston.org/action/earth-day-at-the-co
 mpressor/\n\nJoin Fore River Residents Against the Compressor Station (FRR
 ACS) for Earth Day at the Weymouth Compressor Station Event on Saturday\, 
 April 23 (rain date Sunday April 24) from 10 am to 1 pm. \n\nThis action i
 s a response to the “cold comfort” decision issued by Chairman Glick o
 f the Federal Energy Regulatory Commission on January 20\, 2022. He said t
 he FERC had “likely erred” in granting their certificate to build the 
 compressor station in Weymouth\, but there was nothing FERC could do about
  it now. He offered “cold comfort” to the residents who live nearby.\n
 \nThe event will start with a procession on the Fore River Bridge at 10 am
  with Red Rebels in the lead\, followed by allies\, faith leaders\, and ci
 tizens of Weymouth\, Braintree and Quincy. \n\nPost procession\, in the ab
 utting Kings Cove park\, an invitation to all candidates running for Gover
 nor and AG to speak on climate disruption as part of their campaigns. \n\n
 The action will close with a picnic.
LAST-MODIFIED:20220225T175532Z
LOCATION:50 Bridge Street\, Weymouth\, MA
ORGANIZER;CN="Extinction Rebellion Boston":MAILTO:outreach@xrboston.org
URL:https://xrboston.org/action/earth-day-at-the-compressor/
END:VEVENT
END:VCALENDAR
