BEGIN:VCALENDAR
VERSION:2.0
PRODID:-//Extinction Rebellion Boston//Action//
BEGIN:VEVENT
SUMMARY:Earth Day Postering with Ocean Warriors
DTSTART:20230416T233000Z
DTEND:20230417T013000Z
DTSTAMP:20260421T120116Z
UID:1495@https://xrboston.org
CREATED:20260421T120116Z
DESCRIPTION:Event details: https://xrboston.org/action/earth-day-postering
 -with-ocean-warriors/\n\nJoin our Chelsea/Eastie/Everett/Revere affinity g
 roup at sunset at Maverick Station on Sunday\, April 16 to raise awareness
  against the Eversource Substation\, plus postering to promo the April 21 
 Earth Day event demanding No New Fossil Fuels. Bring comfortable shoes\, w
 e'll be walking the neighborhood. This is a great opportunity to meet like
 -minded folks in the area and get involved!\n\nWeather-dependent: we will 
 shift to a local Beers and Climate Change if raining (meet at Maverick Sta
 tion\, destination location TBD)
LAST-MODIFIED:20230416T142504Z
LOCATION:Maverick Square Station\, East Boston
ORGANIZER;CN="Extinction Rebellion Boston":MAILTO:outreach@xrboston.org
URL:https://xrboston.org/action/earth-day-postering-with-ocean-warriors/
END:VEVENT
END:VCALENDAR
