BEGIN:VCALENDAR
VERSION:2.0
PRODID:-//Extinction Rebellion Boston//Action//
BEGIN:VEVENT
SUMMARY:[RESCHEDULED] - Earth Lovers Seeking Courageous Climate Cupids
DTSTART:20240214T210000Z
DTEND:20240214T230000Z
DTSTAMP:20260425T150810Z
UID:1728@https://xrboston.org
CREATED:20260425T150810Z
DESCRIPTION:Event details: https://xrboston.org/action/earth-lovers-202402
 13/\n\nJoin us when a clan of climate cupids will hit the streets of downt
 own Boston on the eve of Valentine's Day to shoot arrows of Earth's love i
 nto the hearts of busy office workers.💗 \n\nWe will engage passersby in
  a game to find out what kind of earth lover they are\, while passing out 
 Valentine's Day cards and singing love songs for the planet. Come dressed 
 in pinks and reds\, prepare for a little optional face paint\, and get rea
 dy to watch people fall in love with the planet!\n\nWe will be at the Bost
 on Public Market from 4pm to 6pm.
LAST-MODIFIED:20240214T190718Z
LOCATION:Boston Public Market
ORGANIZER;CN="Extinction Rebellion Boston":MAILTO:outreach@xrboston.org
URL:https://xrboston.org/action/earth-lovers-20240213/
END:VEVENT
END:VCALENDAR
