BEGIN:VCALENDAR
VERSION:2.0
PRODID:-//Extinction Rebellion Boston//Action//
BEGIN:VEVENT
SUMMARY:Earth Month Buy Nothing Party
DTSTART:20240427T170000Z
DTEND:20240427T190000Z
DTSTAMP:20260425T181601Z
UID:1773@https://xrboston.org
CREATED:20260425T181601Z
DESCRIPTION:Event details: https://xrboston.org/action/earth-month-buy-not
 hing-party/\n\nIt's Earth Month\, so let's celebrate it with a day of anti
 -consumption! Every time you give or use a re-purposed item\, it's also a 
 gift to the planet!\n\nBring items you don't need\, but think others might
  appreciate...Clothes! Jewelry! Art! Puzzles! Official Beanie Baby Trading
  Cards! We'll have folding tables to display them on. Then\, browse and so
 cialize and learn more about our movement.\n\nThere will be free snacks an
 d drinks!\n\nThe event will run from 1-3 PM. Please take your unclaimed it
 ems as you leave! We recommend that you bring only items that will fit in 
 a 45"x45" space. We also ask that you do not leave any items on the Linwoo
 d St free shelves outside the church.
LAST-MODIFIED:20240425T163203Z
LOCATION:Calvary Church\, 300 Massachusetts Ave\, Arlington\, MA 02474
ORGANIZER;CN="Extinction Rebellion Boston":MAILTO:outreach@xrboston.org
URL:https://xrboston.org/action/earth-month-buy-nothing-party/
END:VEVENT
END:VCALENDAR
