BEGIN:VCALENDAR
VERSION:2.0
PRODID:-//Extinction Rebellion Boston//Action//
BEGIN:VEVENT
SUMMARY:Eastie Beers and the Climate Crisis
DTSTART:20251021T230000Z
DTEND:20251022T010000Z
DTSTAMP:20260420T084737Z
UID:1959@https://xrboston.org
CREATED:20260420T084737Z
DESCRIPTION:Event details: https://xrboston.org/action/eastie-beer-and-cli
 mate-crisis/\n\nJoin us for a casual get together with the beverage of you
 r choice. This a chance to get together with  Eastie activists and fellow 
 rebels to learn about ongoing issues and get organized. We may have ["lost
 " the NoEastieSubstation fight](https://www.wbur.org/news/2024/09/12/battl
 e-over-controversial-east-boston-substation-officially-ends-with-court-dec
 ision)\, but we build a community that will carry on the fight for envirom
 ental justice in East Boston and beyond.\n\nPlease sign up below to stay u
 p-to-date about possible changes of time and location!
LAST-MODIFIED:20251008T120241Z
LOCATION:Eastie\, TBD
ORGANIZER;CN="Extinction Rebellion Boston":MAILTO:outreach@xrboston.org
URL:https://xrboston.org/action/eastie-beer-and-climate-crisis/
END:VEVENT
END:VCALENDAR
