BEGIN:VCALENDAR
VERSION:2.0
PRODID:-//Extinction Rebellion Boston//Action//
BEGIN:VEVENT
SUMMARY:Eastie Beers and Climate Justice
DTSTART:20251210T233000Z
DTEND:20251211T013000Z
DTSTAMP:20260421T184639Z
UID:2197@https://xrboston.org
CREATED:20260421T184639Z
DESCRIPTION:Event details: https://xrboston.org/action/eastie-beers-and-cl
 imate-justice-dec25/\n\nJoin us for a casual get together with the beverag
 e of your choice. This a chance to get together with  Eastie activists and
  fellow rebels to learn about ongoing issues and get organized. We may hav
 e ["lost" the NoEastieSubstation fight](https://www.wbur.org/news/2024/09/
 12/battle-over-controversial-east-boston-substation-officially-ends-with-c
 ourt-decision)\, but we build a community that will carry on the fight for
  enviromental justice in East Boston and beyond.\n\nPlease sign up below t
 o stay up-to-date about possible changes of time and location!
LAST-MODIFIED:20251211T223351Z
LOCATION:La hacienda\; 150 Meridian St\, East Boston\, MA 02128
ORGANIZER;CN="Extinction Rebellion Boston":MAILTO:outreach@xrboston.org
URL:https://xrboston.org/action/eastie-beers-and-climate-justice-dec25/
END:VEVENT
END:VCALENDAR
