BEGIN:VCALENDAR
VERSION:2.0
PRODID:-//Extinction Rebellion Boston//Action//
BEGIN:VEVENT
SUMMARY:Eastie Beers and the Climate Crisis
DTSTART:20250801T230000Z
DTEND:20250802T010000Z
DTSTAMP:20260422T002622Z
UID:2125@https://xrboston.org
CREATED:20260422T002622Z
DESCRIPTION:Event details: https://xrboston.org/action/eastie-beers-and-th
 e-climate-crisis-aug-25/\n\nJoin us for a casual get together with the bev
 erage of your choice. This a chance to get together with  Eastie activists
  and fellow rebels to learn about ongoing issues and get organized. We may
  have ["lost" the NoEastieSubstation fight](https://www.wbur.org/news/2024
 /09/12/battle-over-controversial-east-boston-substation-officially-ends-wi
 th-court-decision)\, but we build a community that will carry on the fight
  for enviromental justice in East Boston and beyond.\n\n🗓️ Friday\, A
 ugust 1\, 7:00\n📍The Quiet Few\, 331 Sumner St\, East Boston\, 02128
LAST-MODIFIED:20250731T011551Z
LOCATION:331 Sumner Street\, East Boston
ORGANIZER;CN="Extinction Rebellion Boston":MAILTO:outreach@xrboston.org
URL:https://xrboston.org/action/eastie-beers-and-the-climate-crisis-aug-25
 /
END:VEVENT
END:VCALENDAR
