BEGIN:VCALENDAR
VERSION:2.0
PRODID:-//Extinction Rebellion Boston//Action//
BEGIN:VEVENT
SUMMARY:Embodied Regenerative Weekly Practice
DTSTART:20220602T210000Z
DTEND:20220602T230000Z
DTSTAMP:20260421T083841Z
UID:1179@https://xrboston.org
CREATED:20260421T083841Z
DESCRIPTION:Join online: <a href="https://us02web.zoom.us/meeting/register
 /tZwvcuCrrTouG9CYnQyPpf4vEXb02AzrbvO3">https://us02web.zoom.us/meeting/reg
 ister/tZwvcuCrrTouG9CYnQyPpf4vEXb02AzrbvO3</a>\n\nEvent details: <a href="
 https://xrboston.org/action/embodied-regenerative-practice-jun2/">https://
 xrboston.org/action/embodied-regenerative-practice-jun2/</a>\n\n> "The cli
 mate and ecological emergency is a trauma inflicted on all beings by white
  supremacy."  - Embodied Antiracism Practice\, XR NYC\n\n**Embodied Regene
 rative Practice** is an interfaith gathering of people working to develop 
 a spiritually-grounded anti-racist climate justice community.  Recognizing
  that white supremacy culture is at the root of systemic racism\, the clim
 ate/environmental crises\, and profound alienation from our bodies/the bod
 ies of all living beings\, we seek to create a safe space for truth-tellin
 g\, healing\, and empowerment.  The weekly Zoom practice will provide move
 ment\, grounding/prayer\, video or other prompts\, and small group reflect
 ion to create awareness of our embodied racialized behaviors and develop n
 ew habits in how we relate to others and the Creation in our lives and org
 anizing work.\n\nFor more information\, click [HERE](https://docs.google.c
 om/document/d/1wx4qnzC6ySWQlReYH85QnxFO60JAMNMk/edit). \n\nTo register\, c
 lick [HERE](https://us02web.zoom.us/meeting/register/tZwvcuCrrTouG9CYnQyPp
 f4vEXb02AzrbvO3). (One registration will allow you to attend any session)\
 n\n-::~:~::~:~:~:~:~:~:~:~:~:~:~:~:~:~:~:~:~:~:~:~:~:~:~:~:~:~:~:~:~:~:~:~
 :~:~:~:~::~:~::-\nDo not edit this section of the description.\n\nThis eve
 nt has a video call.\nJoin: https://us02web.zoom.us/meeting/register/tZwvc
 uCrrTouG9CYnQyPpf4vEXb02AzrbvO3\n\nView your event at https://xrboston.org
 /action/embodied-regenerative-practice-jun2/\n-::~:~::~:~:~:~:~:~:~:~:~:~:
 ~:~:~:~:~:~:~:~:~:~:~:~:~:~:~:~:~:~:~:~:~:~:~:~:~:~::~:~::-
LAST-MODIFIED:20220509T004644Z
LOCATION:Online event
ORGANIZER;CN="Extinction Rebellion Boston":MAILTO:outreach@xrboston.org
URL:https://xrboston.org/action/embodied-regenerative-practice-jun2/
END:VEVENT
END:VCALENDAR
