BEGIN:VCALENDAR
VERSION:2.0
PRODID:-//Extinction Rebellion Boston//Action//
BEGIN:VEVENT
SUMMARY:Embodied Regenerative Weekly Practice
DTSTART:20220512T210000Z
DTEND:20220512T230000Z
DTSTAMP:20260421T103906Z
UID:1173@https://xrboston.org
CREATED:20260421T103906Z
DESCRIPTION:Join online: <a href="https://us02web.zoom.us/meeting/register
 /tZwvcuCrrTouG9CYnQyPpf4vEXb02AzrbvO3">https://us02web.zoom.us/meeting/reg
 ister/tZwvcuCrrTouG9CYnQyPpf4vEXb02AzrbvO3</a>\n\nEvent details: <a href="
 https://xrboston.org/action/embodied-regenerative-weekly-practice/">https:
 //xrboston.org/action/embodied-regenerative-weekly-practice/</a>\n\n**Embo
 died Regenerative Weekly Practice** Starts Thursday\, May 12\, 5-6:15 pm (
 repeats every Thursday)\n\n> "The climate and ecological emergency is a tr
 auma inflicted on all beings by white supremacy."  - Embodied Antiracism P
 ractice\, XR NYC\n\n**Embodied Regenerative Practice** is an interfaith ga
 thering of people working to develop a spiritually-grounded anti-racist cl
 imate justice community.  Recognizing that white supremacy culture is at t
 he root of systemic racism\, the climate/environmental crises\, and profou
 nd alienation from our bodies/the bodies of all living beings\, we seek to
  create a safe space for truth-telling\, healing\, and empowerment.  The w
 eekly Zoom practice will provide movement\, grounding/prayer\, video or ot
 her prompts\, and small group reflection to create awareness of our embodi
 ed racialized behaviors and develop new habits in how we relate to others 
 and the Creation in our lives and organizing work.\n\nFor more information
 \, click [HERE](https://docs.google.com/document/d/1wx4qnzC6ySWQlReYH85Qnx
 FO60JAMNMk/edit). \n\nTo register\, click [HERE](https://us02web.zoom.us/m
 eeting/register/tZwvcuCrrTouG9CYnQyPpf4vEXb02AzrbvO3). (One registration w
 ill allow you to attend any session)\n\n-::~:~::~:~:~:~:~:~:~:~:~:~:~:~:~:
 ~:~:~:~:~:~:~:~:~:~:~:~:~:~:~:~:~:~:~:~:~:~:~::~:~::-\nDo not edit this se
 ction of the description.\n\nThis event has a video call.\nJoin: https://u
 s02web.zoom.us/meeting/register/tZwvcuCrrTouG9CYnQyPpf4vEXb02AzrbvO3\n\nVi
 ew your event at https://xrboston.org/action/embodied-regenerative-weekly-
 practice/\n-::~:~::~:~:~:~:~:~:~:~:~:~:~:~:~:~:~:~:~:~:~:~:~:~:~:~:~:~:~:~
 :~:~:~:~:~:~:~:~::~:~::-
LAST-MODIFIED:20220509T002955Z
LOCATION:Online event
ORGANIZER;CN="Extinction Rebellion Boston":MAILTO:outreach@xrboston.org
URL:https://xrboston.org/action/embodied-regenerative-weekly-practice/
END:VEVENT
END:VCALENDAR
