BEGIN:VCALENDAR
VERSION:2.0
PRODID:-//Extinction Rebellion Boston//Action//
BEGIN:VEVENT
SUMMARY:Event Canceled - Arlington Town Day Die-In
DTSTART:20250920T150000Z
DTEND:20250920T170000Z
DTSTAMP:20260421T230717Z
UID:2154@https://xrboston.org
CREATED:20260421T230717Z
DESCRIPTION:Event details: https://xrboston.org/action/event-canceled-arli
 ngton-town-day-die-in/\n\nEVENT CANCELED\n\nJoin the XRlington Affinity Gr
 oup for a die-in at Arlington Town Day.  \n\nWe will meet in front of Robb
 ins Library at 11am to hold gravestones and talk with our Arlington neighb
 ors about getting involved with climate action.  \n\nAt 11:20am we will li
 e on the ground to "die-in" for 15 minutes\, in protest of our government'
 s inaction.  \n\nBring along your family\, friends\, and neighbors to join
  the die-in too.
LAST-MODIFIED:20250918T010956Z
LOCATION:Robbins Library\, Arlington
ORGANIZER;CN="Extinction Rebellion Boston":MAILTO:outreach@xrboston.org
URL:https://xrboston.org/action/event-canceled-arlington-town-day-die-in/
END:VEVENT
END:VCALENDAR
