BEGIN:VCALENDAR
VERSION:2.0
PRODID:-//Extinction Rebellion Boston//Action//
BEGIN:VEVENT
SUMMARY:Extinction Jenga Art build
DTSTART:20250909T220000Z
DTEND:20250910T000000Z
DTSTAMP:20260421T230806Z
UID:2147@https://xrboston.org
CREATED:20260421T230806Z
DESCRIPTION:Event details: https://xrboston.org/action/extinction-jenga-ar
 t-build-sept-25/\n\nCome join our Jenga Art Build! We will be meeting at t
 he Puppet Free Library from 6-8pm to repair and maintain the beauty of our
  popular giant Extinction Jenga game. \n\nThe game symbolizes the fragilit
 y of ecosystems affected by the 6th mass extinction and creates a playful 
 and accessible experience of this emotionally heavy and complex problem. [
 Learn more](https://xrboston.org/wiki/extinction-jenga/)\n\nThis is a fami
 ly friendly event. Feel free to drop in any time. No art experience needed
 \, just a love for the planet.
LAST-MODIFIED:20250904T022542Z
LOCATION:The Puppet Free Library\; 15 Public Alley 437\, Boston\, MA 02116
ORGANIZER;CN="Extinction Rebellion Boston":MAILTO:outreach@xrboston.org
URL:https://xrboston.org/action/extinction-jenga-art-build-sept-25/
END:VEVENT
END:VCALENDAR
