BEGIN:VCALENDAR
VERSION:2.0
PRODID:-//Extinction Rebellion Boston//Action//
BEGIN:VEVENT
SUMMARY:Extinction Jenga in Eastie
DTSTART:20240421T180000Z
DTEND:20240421T200000Z
DTSTAMP:20260425T181034Z
UID:1780@https://xrboston.org
CREATED:20260425T181034Z
DESCRIPTION:Event details: https://xrboston.org/action/extinction-jenga-in
 -eastie/\n\nJoin us for some games of "Extinction Jenga" and playfully lea
 rn about biodiversity loss and ecosystem collapse. \n\nScientists warn tha
 t 25% of plants and animals will disappear in the next 50 years. Every sp
 ecies - including the human species - plays an important role in Earth's s
 ystems in oceans\, rivers\, forests\, etc. Just like a [jenga tower](phys.
 org/news/2020-03-jenga-wildlife-late.html)\, those systems become less sta
 ble as species go extinct. \n\nFossil fuel and extractive industry destro
 ys habitat of species threatened by extinction. Climate chaos exacerbate
 s mass extinction. Extinction and ecosystem collapse is forever! We only h
 ave one chance to stabilize Earth's systems. \n\n**Note:** This event is
  in collaboration with Mothers out front and Eastie Farms. Families with k
 ids are very welcome. Please sign up below to get updates. \n\nMore backgr
 ound info [here](https://xrboston.org/wiki/lost-animals/)
LAST-MODIFIED:20240403T132102Z
LOCATION:Eastie Farm Greenhouse\, 6 Chelsea Terrace\, Boston\, MA 02128
ORGANIZER;CN="Extinction Rebellion Boston":MAILTO:outreach@xrboston.org
URL:https://xrboston.org/action/extinction-jenga-in-eastie/
END:VEVENT
END:VCALENDAR
