BEGIN:VCALENDAR
VERSION:2.0
PRODID:-//Extinction Rebellion Boston//Action//
BEGIN:VEVENT
SUMMARY:Extinction Rebellion Orientation
DTSTART:20220204T000000Z
DTEND:20220204T020000Z
DTSTAMP:20260425T035052Z
UID:1045@https://xrboston.org
CREATED:20260425T035052Z
DESCRIPTION:Join online: <a href="https://us02web.zoom.us/j/87250155507?pw
 d=eE5rSFRZTlhoTm9PODFxUE9zTENBZz09">https://us02web.zoom.us/j/87250155507?
 pwd=eE5rSFRZTlhoTm9PODFxUE9zTENBZz09</a>\n\nEvent details: <a href="https:
 //xrboston.org/action/extinction-rebellion-orientation-2022-02-03/">https:
 //xrboston.org/action/extinction-rebellion-orientation-2022-02-03/</a>\n\n
 If you are new to Extinction Rebellion or would just like to learn more ab
 out how it works\, please join us! \n\nWe will cover the following:\n\n* W
 hat is XR?\n* What is civil disobedience & direct action?\n* What do we wa
 nt?\n* What are our principles and values?\n* How are we organized?\n* How
  you can get involved!\n\nThe session will run for around 75 minutes.\n\nR
 SVP above. Looking forward to seeing you!\n\n-::~:~::~:~:~:~:~:~:~:~:~:~:~
 :~:~:~:~:~:~:~:~:~:~:~:~:~:~:~:~:~:~:~:~:~:~:~:~:~::~:~::-\nDo not edit th
 is section of the description.\n\nThis event has a video call.\nJoin: http
 s://us02web.zoom.us/j/87250155507?pwd=eE5rSFRZTlhoTm9PODFxUE9zTENBZz09\n\n
 View your event at https://xrboston.org/action/extinction-rebellion-orient
 ation-2022-02-03/\n-::~:~::~:~:~:~:~:~:~:~:~:~:~:~:~:~:~:~:~:~:~:~:~:~:~:~
 :~:~:~:~:~:~:~:~:~:~:~:~::~:~::-
LAST-MODIFIED:20220121T000047Z
LOCATION:Online event
ORGANIZER;CN="Extinction Rebellion Boston":MAILTO:outreach@xrboston.org
URL:https://xrboston.org/action/extinction-rebellion-orientation-2022-02-0
 3/
END:VEVENT
END:VCALENDAR
