BEGIN:VCALENDAR
VERSION:2.0
PRODID:-//Extinction Rebellion Boston//Action//
BEGIN:VEVENT
SUMMARY:Extinction Rebellion Orientation
DTSTART:20220612T230000Z
DTEND:20220613T010000Z
DTSTAMP:20260424T084840Z
UID:1175@https://xrboston.org
CREATED:20260424T084840Z
DESCRIPTION:Join online: <a href="https://us02web.zoom.us/meeting/register
 /tZwsfuGorzooHt31CrtuWeBUrfQ12aufLwXy">https://us02web.zoom.us/meeting/reg
 ister/tZwsfuGorzooHt31CrtuWeBUrfQ12aufLwXy</a>\n\nEvent details: <a href="
 https://xrboston.org/action/extinction-rebellion-orientation-2022-06-12/">
 https://xrboston.org/action/extinction-rebellion-orientation-2022-06-12/</
 a>\n\nIf you are new to Extinction Rebellion or would just like to learn m
 ore about how it works\, please join us!\n\nWe will cover the following:\n
 \nWhat is XR?\nWhat is civil disobedience & direct action?\nWhat do we wan
 t?\nWhat are our principles and values?\nHow are we organized?\nHow you ca
 n get involved!\nThe session will run for 1 hour.\n\n[REGISTER HERE IN ADV
 ANCE](https://us02web.zoom.us/meeting/register/tZwsfuGorzooHt31CrtuWeBUrfQ
 12aufLwXy) to receive a confirmation email containing information about jo
 ining the meeting.\n\nLooking forward to seeing you!\n\n-::~:~::~:~:~:~:~:
 ~:~:~:~:~:~:~:~:~:~:~:~:~:~:~:~:~:~:~:~:~:~:~:~:~:~:~:~:~:~:~::~:~::-\nDo 
 not edit this section of the description.\n\nThis event has a video call.\
 nJoin: https://us02web.zoom.us/meeting/register/tZwsfuGorzooHt31CrtuWeBUrf
 Q12aufLwXy\n\nView your event at https://xrboston.org/action/extinction-re
 bellion-orientation-2022-06-12/\n-::~:~::~:~:~:~:~:~:~:~:~:~:~:~:~:~:~:~:~
 :~:~:~:~:~:~:~:~:~:~:~:~:~:~:~:~:~:~:~::~:~::-
LAST-MODIFIED:20220507T215740Z
LOCATION:Online event
ORGANIZER;CN="Extinction Rebellion Boston":MAILTO:outreach@xrboston.org
URL:https://xrboston.org/action/extinction-rebellion-orientation-2022-06-1
 2/
END:VEVENT
END:VCALENDAR
