BEGIN:VCALENDAR
VERSION:2.0
PRODID:-//Extinction Rebellion Boston//Action//
BEGIN:VEVENT
SUMMARY:Extinction Rebellion Orientation
DTSTART:20220713T220000Z
DTEND:20220714T000000Z
DTSTAMP:20260419T182156Z
UID:1214@https://xrboston.org
CREATED:20260419T182156Z
DESCRIPTION:Event details: https://xrboston.org/action/extinction-rebellio
 n-orientation-2022-07-13/\n\nIf you are new to Extinction Rebellion or wou
 ld just like to learn more about how it works\, please join us!\n\nWe will
  cover the following:\n\nWhat is XR?\nWhat is civil disobedience & direct 
 action?\nWhat do we want?\nWhat are our principles and values?\nHow are we
  organized?\nHow you can get involved!\nThe session will run for 1 hour.\n
 \nPlease RSVP below to receive a confirmation email containing information
  about joining the meeting.\n\nLooking forward to seeing you!
LAST-MODIFIED:20220626T143536Z
LOCATION:Perry Park\, Somerville\, MA 02143
ORGANIZER;CN="Extinction Rebellion Boston":MAILTO:outreach@xrboston.org
URL:https://xrboston.org/action/extinction-rebellion-orientation-2022-07-1
 3/
END:VEVENT
END:VCALENDAR
