BEGIN:VCALENDAR
VERSION:2.0
PRODID:-//Extinction Rebellion Boston//Action//
BEGIN:VEVENT
SUMMARY:Extinction Rebellion Orientation
DTSTART:20220927T210000Z
DTEND:20220927T230000Z
DTSTAMP:20260421T100036Z
UID:1297@https://xrboston.org
CREATED:20260421T100036Z
DESCRIPTION:Join online: <a href="https://us06web.zoom.us/meeting/register
 /tZ0tce-qpj4pE9ypdvkrLwAuRoXS692wOFl7">https://us06web.zoom.us/meeting/reg
 ister/tZ0tce-qpj4pE9ypdvkrLwAuRoXS692wOFl7</a>\n\nEvent details: <a href="
 https://xrboston.org/action/extinction-rebellion-orientation-2022-09-27/">
 https://xrboston.org/action/extinction-rebellion-orientation-2022-09-27/</
 a>\n\nIf you are new to Extinction Rebellion or would just like to learn m
 ore about how it works\, please join us!\n\nWe will cover the following:\n
 \n* What is XR?\n* What is civil disobedience & direct action?\n* What do 
 we want?\n* What are our principles and values?\n* How are we organized?\n
 * How you can get involved!\n\nThe session will run for around 75 minutes.
 \n\n[REGISTER HERE IN ADVANCE](https://us06web.zoom.us/meeting/register/tZ
 0tce-qpj4pE9ypdvkrLwAuRoXS692wOFl7) to receive a confirmation email contai
 ning information about joining the meeting.\n\nLooking forward to seeing y
 ou!\n\n-::~:~::~:~:~:~:~:~:~:~:~:~:~:~:~:~:~:~:~:~:~:~:~:~:~:~:~:~:~:~:~:~
 :~:~:~:~:~:~::~:~::-\nDo not edit this section of the description.\n\nThis
  event has a video call.\nJoin: https://us06web.zoom.us/meeting/register/t
 Z0tce-qpj4pE9ypdvkrLwAuRoXS692wOFl7\n\nView your event at https://xrboston
 .org/action/extinction-rebellion-orientation-2022-09-27/\n-::~:~::~:~:~:~:
 ~:~:~:~:~:~:~:~:~:~:~:~:~:~:~:~:~:~:~:~:~:~:~:~:~:~:~:~:~:~:~:~::~:~::-
LAST-MODIFIED:20220913T193006Z
LOCATION:Online event
ORGANIZER;CN="Extinction Rebellion Boston":MAILTO:outreach@xrboston.org
URL:https://xrboston.org/action/extinction-rebellion-orientation-2022-09-2
 7/
END:VEVENT
END:VCALENDAR
