BEGIN:VCALENDAR
VERSION:2.0
PRODID:-//Extinction Rebellion Boston//Action//
BEGIN:VEVENT
SUMMARY:Extinction Rebellion Orientation
DTSTART:20221025T220000Z
DTEND:20221026T000000Z
DTSTAMP:20260420T085737Z
UID:1298@https://xrboston.org
CREATED:20260420T085737Z
DESCRIPTION:Join online: <a href="https://us06web.zoom.us/meeting/register
 /tZ0kc-6tqzsvGNP3OgOoYX5-NK33VU8VjmS2">https://us06web.zoom.us/meeting/reg
 ister/tZ0kc-6tqzsvGNP3OgOoYX5-NK33VU8VjmS2</a>\n\nEvent details: <a href="
 https://xrboston.org/action/extinction-rebellion-orientation-2022-10-25/">
 https://xrboston.org/action/extinction-rebellion-orientation-2022-10-25/</
 a>\n\nIf you are new to Extinction Rebellion or would just like to learn m
 ore about how it works\, please join us!\n\nWe will cover the following:\n
 \n* What is XR?\n* What is civil disobedience & direct action?\n* What do 
 we want?\n* What are our principles and values?\n* How are we organized?\n
 * How you can get involved!\n\nThe session will run for around 75 minutes.
 \n\n[REGISTER HERE IN ADVANCE](https://us06web.zoom.us/meeting/register/tZ
 0tce-qpj4pE9ypdvkrLwAuRoXS692wOFl7) to receive a confirmation email contai
 ning information about joining the meeting.\n\nLooking forward to seeing y
 ou!\n\n-::~:~::~:~:~:~:~:~:~:~:~:~:~:~:~:~:~:~:~:~:~:~:~:~:~:~:~:~:~:~:~:~
 :~:~:~:~:~:~::~:~::-\nDo not edit this section of the description.\n\nThis
  event has a video call.\nJoin: https://us06web.zoom.us/meeting/register/t
 Z0kc-6tqzsvGNP3OgOoYX5-NK33VU8VjmS2\n\nView your event at https://xrboston
 .org/action/extinction-rebellion-orientation-2022-10-25/\n-::~:~::~:~:~:~:
 ~:~:~:~:~:~:~:~:~:~:~:~:~:~:~:~:~:~:~:~:~:~:~:~:~:~:~:~:~:~:~:~::~:~::-
LAST-MODIFIED:20221005T223357Z
LOCATION:Online event
ORGANIZER;CN="Extinction Rebellion Boston":MAILTO:outreach@xrboston.org
URL:https://xrboston.org/action/extinction-rebellion-orientation-2022-10-2
 5/
END:VEVENT
END:VCALENDAR
