BEGIN:VCALENDAR
VERSION:2.0
PRODID:-//Extinction Rebellion Boston//Action//
BEGIN:VEVENT
SUMMARY:Extinction Rebellion Orientation
DTSTART:20231024T220000Z
DTEND:20231025T000000Z
DTSTAMP:20260421T231631Z
UID:1638@https://xrboston.org
CREATED:20260421T231631Z
DESCRIPTION:Join online: <a href="https://us06web.zoom.us/meeting/register
 /tZYvfu2tqjIoG9SRChf1vVJJ8UwZ4xfhBAs2">https://us06web.zoom.us/meeting/reg
 ister/tZYvfu2tqjIoG9SRChf1vVJJ8UwZ4xfhBAs2</a>\n\nEvent details: <a href="
 https://xrboston.org/action/extinction-rebellion-orientation-2023-10-14/">
 https://xrboston.org/action/extinction-rebellion-orientation-2023-10-14/</
 a>\n\nIf you are new to Extinction Rebellion or would just like to learn m
 ore about how it works\, please join us!\n\nWe will cover the following:\n
 \n* What is XR?\n* What is civil disobedience & direct action?\n* What do 
 we want?\n* What are our principles and values?\n* How are we organized?\n
 * How you can get involved!\n\nThe session will run for 1 hour.\n\n[REGIST
 ER HERE IN ADVANCE](https://us06web.zoom.us/meeting/register/tZYvfu2tqjIoG
 9SRChf1vVJJ8UwZ4xfhBAs2) to receive a confirmation email containing inform
 ation about joining the meeting.\n\nLooking forward to seeing you!\n\n-::~
 :~::~:~:~:~:~:~:~:~:~:~:~:~:~:~:~:~:~:~:~:~:~:~:~:~:~:~:~:~:~:~:~:~:~:~:~:
 ~::~:~::-\nDo not edit this section of the description.\n\nThis event has 
 a video call.\nJoin: https://us06web.zoom.us/meeting/register/tZYvfu2tqjIo
 G9SRChf1vVJJ8UwZ4xfhBAs2\n\nView your event at https://xrboston.org/action
 /extinction-rebellion-orientation-2023-10-14/\n-::~:~::~:~:~:~:~:~:~:~:~:~
 :~:~:~:~:~:~:~:~:~:~:~:~:~:~:~:~:~:~:~:~:~:~:~:~:~:~::~:~::-
LAST-MODIFIED:20230925T132716Z
LOCATION:Online event
ORGANIZER;CN="Extinction Rebellion Boston":MAILTO:outreach@xrboston.org
URL:https://xrboston.org/action/extinction-rebellion-orientation-2023-10-1
 4/
END:VEVENT
END:VCALENDAR
