BEGIN:VCALENDAR
VERSION:2.0
PRODID:-//Extinction Rebellion Boston//Action//
BEGIN:VEVENT
SUMMARY:Extinction Rebellion Orientation
DTSTART:20231108T003000Z
DTEND:20231108T023000Z
DTSTAMP:20260425T105630Z
UID:1647@https://xrboston.org
CREATED:20260425T105630Z
DESCRIPTION:Join online: <a href="https://us02web.zoom.us/meeting/register
 /tZIodeigpzMrH9ZLhfLpk9dWaNy8AJY5gTmO">https://us02web.zoom.us/meeting/reg
 ister/tZIodeigpzMrH9ZLhfLpk9dWaNy8AJY5gTmO</a>\n\nEvent details: <a href="
 https://xrboston.org/action/extinction-rebellion-orientation-2023-11-07/">
 https://xrboston.org/action/extinction-rebellion-orientation-2023-11-07/</
 a>\n\nIf you are new to Extinction Rebellion or would just like to learn m
 ore about how it works\, please join us!\n​\nWe will cover the following
 :\n​\n* What is XR?\n* What is civil disobedience & direct action?\n* Wh
 at do we want?\n* What are our principles and values?\n* How are we organi
 zed?\n* How you can get involved!\n​\nThe session will run for 1 hour.\n
 ​\n[REGISTER HERE IN ADVANCE](https://us02web.zoom.us/meeting/register/t
 ZIodeigpzMrH9ZLhfLpk9dWaNy8AJY5gTmO) to receive a confirmation email conta
 ining information about joining the meeting.\n​\nLooking forward to seei
 ng you!\n\n-::~:~::~:~:~:~:~:~:~:~:~:~:~:~:~:~:~:~:~:~:~:~:~:~:~:~:~:~:~:~
 :~:~:~:~:~:~:~:~::~:~::-\nDo not edit this section of the description.\n\n
 This event has a video call.\nJoin: https://us02web.zoom.us/meeting/regist
 er/tZIodeigpzMrH9ZLhfLpk9dWaNy8AJY5gTmO\n\nView your event at https://xrbo
 ston.org/action/extinction-rebellion-orientation-2023-11-07/\n-::~:~::~:~:
 ~:~:~:~:~:~:~:~:~:~:~:~:~:~:~:~:~:~:~:~:~:~:~:~:~:~:~:~:~:~:~:~:~:~::~:~::
 -
LAST-MODIFIED:20231014T163723Z
LOCATION:Online event
ORGANIZER;CN="Extinction Rebellion Boston":MAILTO:outreach@xrboston.org
URL:https://xrboston.org/action/extinction-rebellion-orientation-2023-11-0
 7/
END:VEVENT
END:VCALENDAR
