BEGIN:VCALENDAR
VERSION:2.0
PRODID:-//Extinction Rebellion Boston//Action//
BEGIN:VEVENT
SUMMARY:Extinction Rebellion Orientation
DTSTART:20231130T003000Z
DTEND:20231130T023000Z
DTSTAMP:20260425T110026Z
UID:1648@https://xrboston.org
CREATED:20260425T110026Z
DESCRIPTION:Join online: <a href="https://us02web.zoom.us/meeting/register
 /tZcud-GtrzovGNRCO8j3KASafcQuDyZE1JFP">https://us02web.zoom.us/meeting/reg
 ister/tZcud-GtrzovGNRCO8j3KASafcQuDyZE1JFP</a>\n\nEvent details: <a href="
 https://xrboston.org/action/extinction-rebellion-orientation-2023-11-29/">
 https://xrboston.org/action/extinction-rebellion-orientation-2023-11-29/</
 a>\n\nIf you are new to Extinction Rebellion or would just like to learn m
 ore about how it works\, please join us!\n\nWe will cover the following:\n
 \n* What is XR?\n* What is civil disobedience & direct action?\n* What do 
 we want?\n* What are our principles and values?\n* How are we organized?\n
 * How you can get involved!\n\nThe session will run for 1 hour.\n\n[REGIST
 ER HERE IN ADVANCE](https://us02web.zoom.us/meeting/register/tZcud-GtrzovG
 NRCO8j3KASafcQuDyZE1JFP) to receive a confirmation email containing inform
 ation about joining the meeting.\n\nLooking forward to seeing you!\n\n-::~
 :~::~:~:~:~:~:~:~:~:~:~:~:~:~:~:~:~:~:~:~:~:~:~:~:~:~:~:~:~:~:~:~:~:~:~:~:
 ~::~:~::-\nDo not edit this section of the description.\n\nThis event has 
 a video call.\nJoin: https://us02web.zoom.us/meeting/register/tZcud-Gtrzov
 GNRCO8j3KASafcQuDyZE1JFP\n\nView your event at https://xrboston.org/action
 /extinction-rebellion-orientation-2023-11-29/\n-::~:~::~:~:~:~:~:~:~:~:~:~
 :~:~:~:~:~:~:~:~:~:~:~:~:~:~:~:~:~:~:~:~:~:~:~:~:~:~::~:~::-
LAST-MODIFIED:20231014T163945Z
LOCATION:Online event
ORGANIZER;CN="Extinction Rebellion Boston":MAILTO:outreach@xrboston.org
URL:https://xrboston.org/action/extinction-rebellion-orientation-2023-11-2
 9/
END:VEVENT
END:VCALENDAR
