BEGIN:VCALENDAR
VERSION:2.0
PRODID:-//Extinction Rebellion Boston//Action//
BEGIN:VEVENT
SUMMARY:Extinction Rebellion Orientation
DTSTART:20231211T230000Z
DTEND:20231212T010000Z
DTSTAMP:20260425T121407Z
UID:1665@https://xrboston.org
CREATED:20260425T121407Z
DESCRIPTION:Join online: <a href="https://us06web.zoom.us/meeting/register
 /tZIudeCqrzgsE9e8JClt4zM_Rh8BWRVax6Q8">https://us06web.zoom.us/meeting/reg
 ister/tZIudeCqrzgsE9e8JClt4zM_Rh8BWRVax6Q8</a>\n\nEvent details: <a href="
 https://xrboston.org/action/extinction-rebellion-orientation-2023-12-11/">
 https://xrboston.org/action/extinction-rebellion-orientation-2023-12-11/</
 a>\n\nIf you are new to Extinction Rebellion or would just like to learn m
 ore about how it works\, please join us!\n\nWe will cover the following:\n
 \n* What is XR?\n* What is civil disobedience & direct action?\n* What do 
 we want?\n* What are our principles and values?\n* How are we organized?\n
 * How you can get involved!\n\nThe session will run for 1 hour.\n\n[REGIST
 ER HERE IN ADVANCE](https://us06web.zoom.us/meeting/register/tZIudeCqrzgsE
 9e8JClt4zM_Rh8BWRVax6Q8) to receive a confirmation email containing inform
 ation about joining the meeting.\n\nLooking forward to seeing you!\n\n-::~
 :~::~:~:~:~:~:~:~:~:~:~:~:~:~:~:~:~:~:~:~:~:~:~:~:~:~:~:~:~:~:~:~:~:~:~:~:
 ~::~:~::-\nDo not edit this section of the description.\n\nThis event has 
 a video call.\nJoin: https://us06web.zoom.us/meeting/register/tZIudeCqrzgs
 E9e8JClt4zM_Rh8BWRVax6Q8\n\nView your event at https://xrboston.org/action
 /extinction-rebellion-orientation-2023-12-11/\n-::~:~::~:~:~:~:~:~:~:~:~:~
 :~:~:~:~:~:~:~:~:~:~:~:~:~:~:~:~:~:~:~:~:~:~:~:~:~:~::~:~::-
LAST-MODIFIED:20231030T222608Z
LOCATION:Online event
ORGANIZER;CN="Extinction Rebellion Boston":MAILTO:outreach@xrboston.org
URL:https://xrboston.org/action/extinction-rebellion-orientation-2023-12-1
 1/
END:VEVENT
END:VCALENDAR
