BEGIN:VCALENDAR
VERSION:2.0
PRODID:-//Extinction Rebellion Boston//Action//
BEGIN:VEVENT
SUMMARY:Extinction Rebellion Radio
DTSTART:20230210T193000Z
DTEND:20230210T213000Z
DTSTAMP:20260422T102240Z
UID:1427@https://xrboston.org
CREATED:20260422T102240Z
DESCRIPTION:Join online: <a href="https://wbai.org/program.php?program=294
 ">https://wbai.org/program.php?program=294</a>\n\nEvent details: <a href="
 https://xrboston.org/action/extinction-rebellion-radio-feb10/">https://xrb
 oston.org/action/extinction-rebellion-radio-feb10/</a>\n\n**New day and ti
 me:** [Listen to Extinction Rebellion Radio  - 2:30 pm every Friday on WBA
 I.](https://wbai.org/program.php?program=294)\n\n\nExtinction Rebellion Ra
 dio is dedicated to covering weekly news and stories on the climate crisis
  through conversation\, interviews and expert perspectives. Our stories fo
 cus on our rebellion against the climate crisis with a focus on the system
 s that have brought us to crisis and the complexities\, people\, and nuanc
 es that exist within them.\n\n\nThis show is rooted in Extinction Rebellio
 n’s four demands: government must declare a climate and ecological emerg
 ency\, government must halt biodiversity loss and reduce greenhouse gas em
 issions to net zero by 2025\, government must be led by the decisions of a
  Citizens’ Assembly on climate and ecological justice\, and we must prio
 ritize the most vulnerable people to create a livable planet for all.\n\n\
 nThe hosts of Extinction Rebellion Radio are:\n\n\n**Matthew Kearney**  is
  an active member of Extinction Rebellion's Boston chapter and the Northea
 st Region. His B.A. is in English and his Ph.D. is in Sociology. He is the
  author of The Social Order of Collective Action: The Wisconsin \nUprising
  of 2011 about the massive protest defending labor rights that pre-figured
  the Occupy Movement\, showing how organizing outside of formal structures
  can produce massive mobilizations. His writing has appeared in The Progre
 ssive and several academic journals\, and been translated into German and 
 Chinese. He has taught at Harvard University\, Emerson College\, and the U
 niversity of Wisconsin-Madison.\n\n\n**Alycee Lane** is an activist with X
 R SFBay and author of the award-winning book\, Nonviolence Now! Living the
  1963 Birmingham Campaign's Promise of Peace(Lantern Books\, 2015). She is
  also host and creator of the Patreon podcast The Wretched of Mother Earth
 \, where she “decolonizes our climate catastrophe.” Her podcast takes 
 its name from her most recent book The Wretched of Mother Earth: The Handb
 ook for Living\, Dying\, and Nonviolent Revolution in the Midst of Climate
  Change Catastrophe (2018). In that work\, Alycee argues that “if we hop
 e to save ourselves from climate change catastrophe\, we must face not onl
 y the prospect of human extinction\; but also we must radically confront w
 hat produced the climate crisis in the first place: the “colonial power 
 matrix” and our deadly attachments to it.”\n\n\nYou can find her artic
 les on our climate crisis in Counterpunch\, Truthout\, and Common Dreams m
 agazines. A graduate of Howard University\, Alycee studied English literat
 ure and later obtained her Doctorate of Philosophy from UCLA\, where she s
 pecialized in African American literature and culture of the civil rights 
 and black power movements. From 1995 to 2003\, she served as an Assistant 
 Professor of English at the University of California\, Santa Barbara\, aft
 er which she obtained her Juris Doctor from UC Berkeley (Boalt Hall).\n\n-
 ::~:~::~:~:~:~:~:~:~:~:~:~:~:~:~:~:~:~:~:~:~:~:~:~:~:~:~:~:~:~:~:~:~:~:~:~
 :~:~::~:~::-\nDo not edit this section of the description.\n\nThis event h
 as a video call.\nJoin: https://wbai.org/program.php?program=294\n\nView y
 our event at https://xrboston.org/action/extinction-rebellion-radio-feb10/
 \n-::~:~::~:~:~:~:~:~:~:~:~:~:~:~:~:~:~:~:~:~:~:~:~:~:~:~:~:~:~:~:~:~:~:~:
 ~:~:~:~::~:~::-
LAST-MODIFIED:20230124T132857Z
LOCATION:Online event
ORGANIZER;CN="Extinction Rebellion Boston":MAILTO:outreach@xrboston.org
URL:https://xrboston.org/action/extinction-rebellion-radio-feb10/
END:VEVENT
END:VCALENDAR
