BEGIN:VCALENDAR
VERSION:2.0
PRODID:-//Extinction Rebellion Boston//Action//
BEGIN:VEVENT
SUMMARY:Extinction Rebellion Radio
DTSTART:20220918T223000Z
DTEND:20220919T003000Z
DTSTAMP:20260419T121246Z
UID:1269@https://xrboston.org
CREATED:20260419T121246Z
DESCRIPTION:Join online: <a href="https://wbai.org/program.php?program=294
 ">https://wbai.org/program.php?program=294</a>\n\nEvent details: <a href="
 https://xrboston.org/action/extinction-rebellion-radio-sept20/">https://xr
 boston.org/action/extinction-rebellion-radio-sept20/</a>\n\n[New day! List
 en to Extinction Rebellion Radio  - 6:30 pm every Sunday on WBAI.](https:/
 /wbai.org/program.php?program=294)\n\n\nExtinction Rebellion Radio is dedi
 cated to covering weekly news and stories on the climate crisis through co
 nversation\, interviews and expert perspectives. Our stories focus on our 
 rebellion against the climate crisis with a focus on the systems that have
  brought us to crisis and the complexities\, people\, and nuances that exi
 st within them.\n\n\nThis show is rooted in Extinction Rebellion’s four 
 demands: government must declare a climate and ecological emergency\, gove
 rnment must halt biodiversity loss and reduce greenhouse gas emissions to 
 net zero by 2025\, government must be led by the decisions of a Citizens
 ’ Assembly on climate and ecological justice\, and we must prioritize th
 e most vulnerable people to create a livable planet for all.\n\n\nThe host
 s of Extinction Rebellion Radio are:\n\n\n**Matthew Kearney**  is an activ
 e member of Extinction Rebellion's Boston chapter and the Northeast Region
 . His B.A. is in English and his Ph.D. is in Sociology. He is the author o
 f The Social Order of Collective Action: The Wisconsin \nUprising of 2011 
 about the massive protest defending labor rights that pre-figured the Occu
 py Movement\, showing how organizing outside of formal structures can prod
 uce massive mobilizations. His writing has appeared in The Progressive and
  several academic journals\, and been translated into German and Chinese. 
 He has taught at Harvard University\, Emerson College\, and the University
  of Wisconsin-Madison.\n\n\n**Alycee Lane** is an activist with XR SFBay a
 nd author of the award-winning book\, Nonviolence Now! Living the 1963 Bir
 mingham Campaign's Promise of Peace(Lantern Books\, 2015). She is also hos
 t and creator of the Patreon podcast The Wretched of Mother Earth\, where 
 she “decolonizes our climate catastrophe.” Her podcast takes its name 
 from her most recent book The Wretched of Mother Earth: The Handbook for L
 iving\, Dying\, and Nonviolent Revolution in the Midst of Climate Change C
 atastrophe (2018). In that work\, Alycee argues that “if we hope to save
  ourselves from climate change catastrophe\, we must face not only the pro
 spect of human extinction\; but also we must radically confront what produ
 ced the climate crisis in the first place: the “colonial power matrix”
  and our deadly attachments to it.”\n\n\nYou can find her articles on ou
 r climate crisis in Counterpunch\, Truthout\, and Common Dreams magazines.
  A graduate of Howard University\, Alycee studied English literature and l
 ater obtained her Doctorate of Philosophy from UCLA\, where she specialize
 d in African American literature and culture of the civil rights and black
  power movements. From 1995 to 2003\, she served as an Assistant Professor
  of English at the University of California\, Santa Barbara\, after which 
 she obtained her Juris Doctor from UC Berkeley (Boalt Hall).\n\n-::~:~::~:
 ~:~:~:~:~:~:~:~:~:~:~:~:~:~:~:~:~:~:~:~:~:~:~:~:~:~:~:~:~:~:~:~:~:~:~::~:~
 ::-\nDo not edit this section of the description.\n\nThis event has a vide
 o call.\nJoin: https://wbai.org/program.php?program=294\n\nView your event
  at https://xrboston.org/action/extinction-rebellion-radio-sept20/\n-::~:~
 ::~:~:~:~:~:~:~:~:~:~:~:~:~:~:~:~:~:~:~:~:~:~:~:~:~:~:~:~:~:~:~:~:~:~:~:~:
 :~:~::-
LAST-MODIFIED:20220914T235745Z
LOCATION:Online event
ORGANIZER;CN="Extinction Rebellion Boston":MAILTO:outreach@xrboston.org
URL:https://xrboston.org/action/extinction-rebellion-radio-sept20/
END:VEVENT
END:VCALENDAR
