BEGIN:VCALENDAR
VERSION:2.0
PRODID:-//Extinction Rebellion Boston//Action//
BEGIN:VEVENT
SUMMARY:Facing the Climate Emergency - Book Discussion
DTSTART:20231128T224500Z
DTEND:20231129T004500Z
DTSTAMP:20260425T104756Z
UID:1675@https://xrboston.org
CREATED:20260425T104756Z
DESCRIPTION:Event details: https://xrboston.org/action/facing-discussion-n
 ov28/\n\nJoin us on Tuesday\, November 28 from 5:45 pm - 8 pm for a specia
 l discussion of the transformative book\, ["Facing the Climate Emergency: 
 How to Transform Yourself with Climate Truth."](https://https://climateawa
 kening.org/facing-the-climate-emergency-second-edition/) We will be joined
  by the book's author\, Margaret Klein Salamon\, over Zoom! If you need a 
 copy of Facing the Climate Emergency\, please email: outreach@xrboston.org
 . \n\nTogether we'll reflect on the themes of the five chapters: \n\n1. St
 ep One: Face Climate Truth\n\n2. Step Two: Welcome Fear\, Grief\, and Othe
 r Painful Feelings\n\n3. Step Three: Reimagine Your Life Story\n\n4. Step 
 Four: Enter Emergency Mode\n\n5. Step Five: Join the Movement and Disrupt 
 Normalcy\n\nWe'll also discuss what's next for the Climate Emergency Movem
 ent\, and share ideas for how you can help others find -- and be transform
 ed by -- this impactful book. \n\nVegetarian and vegan pizza will be serve
 d at 5:45 pm\, so please arrive promptly. You are welcome to bring a veget
 arian or vegan side\, dessert\, or drink to share. (Gluten-free contributi
 ons are also appreciated.) Be sure to to RSVP on this page so we order eno
 ugh pizza!\n\nNB: This meeting is at the Community Church of Boston\, whic
 h doesn't look much like a church\, more like a storefront along Boylston 
 opposite Copley Square. If it's number 565\, you've got the right place!
LAST-MODIFIED:20231124T215244Z
LOCATION:Community Church of Boston\, 565 Boylston Street (Copley Square)\
 , Boston
ORGANIZER;CN="Extinction Rebellion Boston":MAILTO:outreach@xrboston.org
URL:https://xrboston.org/action/facing-discussion-nov28/
END:VEVENT
END:VCALENDAR
