BEGIN:VCALENDAR
VERSION:2.0
PRODID:-//Extinction Rebellion Boston//Action//
BEGIN:VEVENT
SUMMARY:Facing the Climate Emergency - Book Discussion
DTSTART:20240116T233000Z
DTEND:20240117T013000Z
DTSTAMP:20260425T133327Z
UID:1690@https://xrboston.org
CREATED:20260425T133327Z
DESCRIPTION:Join online: <a href="https://cambridgema.zoom.us/j/8725078899
 9?pwd=VnFVRmVWaHdMUngxR3FqejJwRkRaQT09#success">https://cambridgema.zoom.u
 s/j/87250788999?pwd=VnFVRmVWaHdMUngxR3FqejJwRkRaQT09#success</a>\n\nEvent 
 details: <a href="https://xrboston.org/action/facing-the-climate-emergency
 -book-discussion/">https://xrboston.org/action/facing-the-climate-emergenc
 y-book-discussion/</a>\n\nJoin us on Tuesday January 16 from 6:30 to 8 pm 
 for a special discussion of the transformative book\, ["Facing the Climate
  Emergency: How to Transform Yourself with Climate Truth."](https://https:
 //climateawakening.org/facing-the-climate-emergency-second-edition/) We wi
 ll be joined by the book's author\, Margaret Klein Salamon\, over Zoom! If
  you need a copy of Facing the Climate Emergency\, please email: outreach@
 xrboston.org. \n\nTogether we'll reflect on the themes of the five chapter
 s: \n\n1. Step One: Face Climate Truth\n\n2. Step Two: Welcome Fear\, Grie
 f\, and Other Painful Feelings\n\n3. Step Three: Reimagine Your Life Story
 \n\n4. Step Four: Enter Emergency Mode\n\n5. Step Five: Join the Movement 
 and Disrupt Normalcy\n\nWe'll also discuss what's next for the Climate Eme
 rgency Movement\, and share ideas for how you can help others find -- and 
 be transformed by -- this impactful book.\n\n-::~:~::~:~:~:~:~:~:~:~:~:~:~
 :~:~:~:~:~:~:~:~:~:~:~:~:~:~:~:~:~:~:~:~:~:~:~:~:~::~:~::-\nDo not edit th
 is section of the description.\n\nThis event has a video call.\nJoin: http
 s://cambridgema.zoom.us/j/87250788999?pwd=VnFVRmVWaHdMUngxR3FqejJwRkRaQT09
 #success\n\nView your event at https://xrboston.org/action/facing-the-clim
 ate-emergency-book-discussion/\n-::~:~::~:~:~:~:~:~:~:~:~:~:~:~:~:~:~:~:~:
 ~:~:~:~:~:~:~:~:~:~:~:~:~:~:~:~:~:~:~::~:~::-
LAST-MODIFIED:20231206T193154Z
LOCATION:Online event
ORGANIZER;CN="Extinction Rebellion Boston":MAILTO:outreach@xrboston.org
URL:https://xrboston.org/action/facing-the-climate-emergency-book-discussi
 on/
END:VEVENT
END:VCALENDAR
