BEGIN:VCALENDAR
VERSION:2.0
PRODID:-//Extinction Rebellion Boston//Action//
BEGIN:VEVENT
SUMMARY:Calling Out Monster Banks: Stop Funding Ecocide & Genocide
DTSTART:20251030T190000Z
DTEND:20251030T210000Z
DTSTAMP:20260420T083959Z
UID:2152@https://xrboston.org
CREATED:20260420T083959Z
DESCRIPTION:Event details: https://xrboston.org/action/fallaction2025/\n\n
 **Join in our chapter-wide action!**\n\nIt’s the time of year for facing
  the vile and scary: monsters\, specters\, and things that go bump in the 
 night. Who better for us to face with courage than a **Monster Bank**?\n\n
 **Monster Banks invest in monstrous things -- climate catastrophe and geno
 cide in Palestine.** We demand the banks divest completely from fossil fue
 l projects and the Israeli war machine. \n\nJoin us on **Thursday\, Octobe
 r 30 at 3pm** at Bank of America Financial Center in downtown Boston to pr
 otest bank investments. In addition to our standout\, we'll perform a die-
 in to help visually show the impact monster banks have on people and the p
 lanet. A brass band will set the somber mood\, and short speeches will amp
 lify our demands. Wear black if you can. Feel free to bring signs about ba
 nks\, genocide\, and the climate crisis\, but we'll also have signs and ar
 t for you to carry. \n\nRSVP for updates. \n\n**Thanks for stepping up for
  people and the planet. Can't wait to see you there!**\n\nJoin up after fo
 r a social gathering at a local restaurant.\n\nWant to divest from your fo
 ssil fuel & war-funding bank? Learn more here! [https://xrboston.org/drop-
 your-dirty-bank/](https://xrboston.org/drop-your-dirty-bank/).
LAST-MODIFIED:20251030T141006Z
LOCATION:175 Federal St\, Boston\, MA  - Meet on Summer St between High St
  and Purchase St
ORGANIZER;CN="Extinction Rebellion Boston":MAILTO:outreach@xrboston.org
URL:https://xrboston.org/action/fallaction2025/
END:VEVENT
END:VCALENDAR
