BEGIN:VCALENDAR
VERSION:2.0
PRODID:-//Extinction Rebellion Boston//Action//
BEGIN:VEVENT
SUMMARY:February Climate Grief Circle
DTSTART:20220217T000000Z
DTEND:20220217T020000Z
DTSTAMP:20260425T034444Z
UID:1046@https://xrboston.org
CREATED:20260425T034444Z
DESCRIPTION:Join online: <a href="https://actionnetwork.org/events/climate
 -grief-circle/">https://actionnetwork.org/events/climate-grief-circle/</a>
 \n\nEvent details: <a href="https://xrboston.org/action/february-climate-g
 rief-circle/">https://xrboston.org/action/february-climate-grief-circle/</
 a>\n\n**[RSVP via Action Network:](https://actionnetwork.org/events/climat
 e-grief-circle/)**\n\nYou are welcome in this monthly circle\, where we co
 ntact and work with our climate grief. We are all experiencing so many los
 ses because of the climate crisis\, including extinctions\, displacement\,
  loss of livelihood\, and irrevocable changes to beloved places. Our resul
 ting grief can show up in many different ways\, such as numbness\, bittern
 ess\, and despair. However your grief shows up\, you are welcome in this s
 pace. We believe that working with grief requires support\, and that is wh
 at we aim to provide. What’s more\, we trust that when we engage with ou
 r grief in a supported way\, we find that we no longer need to be afraid o
 f it\, and that frees us up to show up in service and love for the communi
 ties that we hold dear.\n\nWith gentle facilitation and simple prompts\, w
 e will move through reflection and sharing that will get us out of our hea
 ds and into our hearts\, where our grief and our love for this world resid
 e. This 90-minute circle is open to all\, whether you are a seasoned rebel
  or brand-new to XR.\n\nThis online event will be facilitated by XR DC via
  Zoom. This event is cosponsored by XR Boston and XR NYC as well. All are 
 welcome to attend.\n\n-::~:~::~:~:~:~:~:~:~:~:~:~:~:~:~:~:~:~:~:~:~:~:~:~:
 ~:~:~:~:~:~:~:~:~:~:~:~:~:~::~:~::-\nDo not edit this section of the descr
 iption.\n\nThis event has a video call.\nJoin: https://actionnetwork.org/e
 vents/climate-grief-circle/\n\nView your event at https://xrboston.org/act
 ion/february-climate-grief-circle/\n-::~:~::~:~:~:~:~:~:~:~:~:~:~:~:~:~:~:
 ~:~:~:~:~:~:~:~:~:~:~:~:~:~:~:~:~:~:~:~:~::~:~::-
LAST-MODIFIED:20220213T223613Z
LOCATION:Online event
ORGANIZER;CN="Extinction Rebellion Boston":MAILTO:outreach@xrboston.org
URL:https://xrboston.org/action/february-climate-grief-circle/
END:VEVENT
END:VCALENDAR
