BEGIN:VCALENDAR
VERSION:2.0
PRODID:-//Extinction Rebellion Boston//Action//
BEGIN:VEVENT
SUMMARY:February Climate Grief Circle
DTSTART:20240228T233000Z
DTEND:20240229T013000Z
DTSTAMP:20260423T052338Z
UID:1715@https://xrboston.org
CREATED:20260423T052338Z
DESCRIPTION:Join online: <a href="https://us06web.zoom.us/meeting/register
 /tZIufu-pqzMoHtf2ANr-5IznnpjnQN24092H">https://us06web.zoom.us/meeting/reg
 ister/tZIufu-pqzMoHtf2ANr-5IznnpjnQN24092H</a>\n\nEvent details: <a href="
 https://xrboston.org/action/february-climate-grief-circle-2024/">https://x
 rboston.org/action/february-climate-grief-circle-2024/</a>\n\n**Please RSV
 P through this [zoom link](https://us06web.zoom.us/meeting/register/tZIufu
 -pqzMoHtf2ANr-5IznnpjnQN24092H)**\n\nYou are welcome in this monthly circl
 e\, where we contact and work with our climate grief. We are all experienc
 ing so many losses because of the climate crisis\, including extinction\, 
 displacement\, loss of livelihood\, and irrevocable changes to beloved pla
 ces. Our resulting grief can show up in many different ways\, such as numb
 ness\, bitterness\, and despair. However your grief shows up\, you are wel
 come in this space. We believe that working with grief requires support\, 
 and that is what we aim to provide. What’s more\, we trust that when we 
 engage with our grief in a supported way\, we find that we no longer need 
 to be afraid of it\, and that frees us up to show up in service and love f
 or the communities that we hold dear. \n\nWith gentle facilitation and sim
 ple prompts\, we will move through reflection and sharing that will get us
  out of our heads and into our hearts\, where our grief and our love for t
 his world reside. This 75-minute circle is open to all\, whether you are a
  seasoned rebel or brand-new to XR.\n\n-::~:~::~:~:~:~:~:~:~:~:~:~:~:~:~:~
 :~:~:~:~:~:~:~:~:~:~:~:~:~:~:~:~:~:~:~:~:~:~::~:~::-\nDo not edit this sec
 tion of the description.\n\nThis event has a video call.\nJoin: https://us
 06web.zoom.us/meeting/register/tZIufu-pqzMoHtf2ANr-5IznnpjnQN24092H\n\nVie
 w your event at https://xrboston.org/action/february-climate-grief-circle-
 2024/\n-::~:~::~:~:~:~:~:~:~:~:~:~:~:~:~:~:~:~:~:~:~:~:~:~:~:~:~:~:~:~:~:~
 :~:~:~:~:~:~::~:~::-
LAST-MODIFIED:20240111T161702Z
LOCATION:Online event
ORGANIZER;CN="Extinction Rebellion Boston":MAILTO:outreach@xrboston.org
URL:https://xrboston.org/action/february-climate-grief-circle-2024/
END:VEVENT
END:VCALENDAR
