BEGIN:VCALENDAR
VERSION:2.0
PRODID:-//Extinction Rebellion Boston//Action//
BEGIN:VEVENT
SUMMARY:February General Meeting
DTSTART:20240227T230000Z
DTEND:20240228T010000Z
DTSTAMP:20260425T150725Z
UID:1723@https://xrboston.org
CREATED:20260425T150725Z
DESCRIPTION:Event details: https://xrboston.org/action/february-general-me
 eting/\n\nWe'd love to see you at XR Boston's February General Meeting! Wh
 ether you're new to our movement\, or an old hand\, it's the perfect place
  to connect with our community of people who care about the climate\, and 
 are ready to do something about it.\n\nAfter socializing and sharing food\
 , we'll engage in a group activity: What is your vision of the sustainable
 \, regenerative society we're striving for? And how can we get into our gr
 owth zone to achieve it?\n\nFood will be provided (including vegan and glu
 ten-free options). Anything you can bring to share will be much appreciate
 d! (Please label ingredients).\n\nIt'll be held at the Community Church of
  Boston\, near Copley on the Green Line. Look for signs directing you upst
 airs! The event will run approximately two hours.
LAST-MODIFIED:20240225T190657Z
LOCATION:Community Church of Boston\, 565 Boylston St. Boston\, MA 02116
ORGANIZER;CN="Extinction Rebellion Boston":MAILTO:outreach@xrboston.org
URL:https://xrboston.org/action/february-general-meeting/
END:VEVENT
END:VCALENDAR
