BEGIN:VCALENDAR
VERSION:2.0
PRODID:-//Extinction Rebellion Boston//Action//
BEGIN:VEVENT
SUMMARY:Rebels of the Fells AG Art Visioning Session
DTSTART:20250824T180000Z
DTEND:20250824T200000Z
DTSTAMP:20260422T003210Z
UID:2140@https://xrboston.org
CREATED:20260422T003210Z
DESCRIPTION:Event details: https://xrboston.org/action/fells-ag-aug2025/\n
 \nDo you live in Malden\, Melrose\, Wakefield\, Reading\, or another town 
 near the Middlesex Fells? Come meet your neighbors who care about the clim
 ate crisis as much as you do. We will be brainstorming in preparation to b
 uild some amazing art together. New and seasoned rebels all welcome! \n\nW
 e will gather from 2-4PM at the Melrose UU Church - please enter at the we
 st side of the church adjacent to their small parking lot.\n\nCan’t make
  it this time but still want to stay in the loop? Email outreach@xrboston.
 org to join the extraordinary rebels of the fells.
LAST-MODIFIED:20250815T121122Z
LOCATION:[Melrose UU Church at 70 W Emerson St](https://www.google.com/map
 s/place/Melrose+Unitarian+Universalist+Church/data=!4m2!3m1!1s0x0:0xa01697
 eb81a6163c?sa=X&ved=1t:2428&ictx=111)
ORGANIZER;CN="Extinction Rebellion Boston":MAILTO:outreach@xrboston.org
URL:https://xrboston.org/action/fells-ag-aug2025/
END:VEVENT
END:VCALENDAR
