BEGIN:VCALENDAR
VERSION:2.0
PRODID:-//Extinction Rebellion Boston//Action//
BEGIN:VEVENT
SUMMARY:Rebels of the Fells Winter Solstice Celebration
DTSTART:20251228T190000Z
DTEND:20251228T210000Z
DTSTAMP:20260421T184149Z
UID:2201@https://xrboston.org
CREATED:20260421T184149Z
DESCRIPTION:Event details: https://xrboston.org/action/fells-ag-dec2025/\n
 \nDo you live in Malden\, Melrose\, Wakefield\, Reading\, or another town 
 near the Middlesex Fells? Come meet your neighbors who care about the clim
 ate crisis as much as you do. New and seasoned rebels all welcome!\n\nYou 
 are invited to bring your favorite winter solstice tradition\, or a reflec
 tion to share!\n\nWe will gather from 2-4PM at the Melrose UU Church - ple
 ase enter at the west side of the church adjacent to their small parking l
 ot. \n\nCan’t make it this time but still want to stay in the loop? Emai
 l outreach@xrboston.org to join the extraordinary rebels of the fells.
LAST-MODIFIED:20251229T180657Z
LOCATION:[Melrose UU Church at 70 W Emerson St](https://www.google.com/map
 s/place/Melrose+Unitarian+Universalist+Church/data=!4m2!3m1!1s0x0:0xa01697
 eb81a6163c?sa=X&ved=1t:2428&ictx=111)
ORGANIZER;CN="Extinction Rebellion Boston":MAILTO:outreach@xrboston.org
URL:https://xrboston.org/action/fells-ag-dec2025/
END:VEVENT
END:VCALENDAR
