BEGIN:VCALENDAR
VERSION:2.0
PRODID:-//Extinction Rebellion Boston//Action//
BEGIN:VEVENT
SUMMARY:Rebels of the Fells Community Gathering
DTSTART:20250928T180000Z
DTEND:20250928T200000Z
DTSTAMP:20260421T230042Z
UID:2156@https://xrboston.org
CREATED:20260421T230042Z
DESCRIPTION:Event details: https://xrboston.org/action/fells-ag-sept2025/\
 n\nDo you live in Malden\, Melrose\, Wakefield\, Reading\, or another town
  near the Middlesex Fells? Come meet your neighbors who care about the cli
 mate crisis as much as you do. New and seasoned rebels all welcome!\n\nWe 
 will gather from 2-4PM at the Melrose UU Church - please enter at the west
  side of the church adjacent to their small parking lot.\n\nCan’t make i
 t this time but still want to stay in the loop? Email outreach@xrboston.or
 g to join the extraordinary rebels of the fells.
LAST-MODIFIED:20250917T131719Z
LOCATION:[Melrose UU Church at 70 W Emerson St](https://www.google.com/map
 s/place/Melrose+Unitarian+Universalist+Church/data=!4m2!3m1!1s0x0:0xa01697
 eb81a6163c?sa=X&ved=1t:2428&ictx=111)
ORGANIZER;CN="Extinction Rebellion Boston":MAILTO:outreach@xrboston.org
URL:https://xrboston.org/action/fells-ag-sept2025/
END:VEVENT
END:VCALENDAR
