BEGIN:VCALENDAR
VERSION:2.0
PRODID:-//Extinction Rebellion Boston//Action//
BEGIN:VEVENT
SUMMARY:Film Screening: Earth's Greatest Enemy
DTSTART:20260424T230000Z
DTEND:20260425T010000Z
DTSTAMP:20260422T043613Z
UID:2244@https://xrboston.org
CREATED:20260422T043613Z
DESCRIPTION:Event details: https://xrboston.org/action/film-screening-eart
 hs-greatest-enemy/\n\nJoin us for this special film screening of "Earth's 
 Greatest Enemy\," a film by Abby Martin.   \nEntry is free\, donations are
  welcome!  \nDoors open at 6:30PM  \nFilm starts at 7:00PM  \nRun time is 
 2 hrs  \nLight refreshments will be available\n\n"Earth’s Greatest Enemy
 " reveals a hidden truth behind the climate crisis: the role of the\nU.S. 
 military as the world’s largest institutional polluter\, tracing the lin
 k between war\,\nempire\, and ecological destruction. Drawing on powerful 
 testimonies from veterans\,\nscientists\, and frontline communities\, it u
 ncovers how military operations poison\necosystems\, accelerate global war
 ming\, and sacrifice the future for endless expansion.\nFrom Alaska’s me
 lting glaciers to contaminated bases across the U.S. and toxic\nbattlefiel
 ds abroad\, "Earth’s Greatest Enemy" delivers a provocative and unflinch
 ing\nexamination of the untouchable institution playing an outsized role i
 n the climate crisis.  \n  \nSpecial thanks to Mass Peace Action's  Peace\
 , Justice and Climate working group for cosponsoring this film with XR Bos
 ton.
LAST-MODIFIED:20260403T144049Z
LOCATION:[Calvary Church\, Arlington](https://www.google.com/maps/place/Ca
 lvary+United+Methodist+Church/data=!4m2!3m1!1s0x0:0x13a49e3bb6c4419f?sa=X&
 ved=1t:2428&ictx=111)
ORGANIZER;CN="Extinction Rebellion Boston":MAILTO:outreach@xrboston.org
URL:https://xrboston.org/action/film-screening-earths-greatest-enemy/
END:VEVENT
END:VCALENDAR
