BEGIN:VCALENDAR
VERSION:2.0
PRODID:-//Extinction Rebellion Boston//Action//
BEGIN:VEVENT
SUMMARY:First Gathering of the XR Arlington Affinity Group
DTSTART:20240303T170000Z
DTEND:20240303T190000Z
DTSTAMP:20260425T165116Z
UID:1749@https://xrboston.org
CREATED:20260425T165116Z
DESCRIPTION:Event details: https://xrboston.org/action/first-gathering-of-
 the-xr-arlington-affinity-group/\n\nThis is the first gathering of the XR 
 Arlington Affinity Group\, which is focused on connecting rebels who live 
 in or near to Arlington\, MA and increasing the XR presence in the area th
 rough organizing local gatherings\, events and actions. There are many lon
 g-term and new XR members in the Arlington area so this should be a strong
  and engaged AG. \n\nWe will meet at an Arlington home from noon to 2pm\, 
 for a social vegetarian/vegan potluck lunch and to discuss how we would li
 ke to organize this AG going forward. \n\nIf you are involved with Extinct
 ion Rebellion\, or would like to start getting involved\, live in or near 
 Arlington and are interested to attending\, RSVP here and we will reach ou
 t to you with the location. Also\, please bring a dish for the potluck wit
 h a list of ingredients.
LAST-MODIFIED:20240225T200155Z
LOCATION:Provided for those who sign up
ORGANIZER;CN="Extinction Rebellion Boston":MAILTO:outreach@xrboston.org
URL:https://xrboston.org/action/first-gathering-of-the-xr-arlington-affini
 ty-group/
END:VEVENT
END:VCALENDAR
