BEGIN:VCALENDAR
VERSION:2.0
PRODID:-//Extinction Rebellion Boston//Action//
BEGIN:VEVENT
SUMMARY:XR in the First Night Parade - with Puppeteers Cooperative
DTSTART:20251231T221500Z
DTEND:20260101T001500Z
DTSTAMP:20260421T184112Z
UID:2196@https://xrboston.org
CREATED:20260421T184112Z
DESCRIPTION:Event details: https://xrboston.org/action/firstnightdec25/\n\
 nJoin fellow rebels and Puppeteer Cooperative friends in the First Night P
 arade! We'll carry light boxes decorated with XR images and messages\, pup
 pets\, a banner\, and flags\, and spread the word about our movement to th
 e thousands lining the route! Bring kids\, family\, and friends to join in
  this festive and rejuvenating event!\n\nTimeline:\n\n5:15 pm - Arrive (Ca
 mbridge Street\, next to Government Center T Stop) <-- look for the XR fla
 gs\n\n5:30 pm - Select item(s) to carry in the parade and get lined up\n\n
 6:00 pm - Parade starts\n\n6:50 pm - Parade concludes on Charles Street by
  the Boston Common. Head to Puppet Free Library to return what you carried
  and enjoy refreshments.\n\n(7:00 pm - Family Fireworks)
LAST-MODIFIED:20260101T211750Z
LOCATION:Cambridge Street in front of City Hall Plaza
ORGANIZER;CN="Extinction Rebellion Boston":MAILTO:outreach@xrboston.org
URL:https://xrboston.org/action/firstnightdec25/
END:VEVENT
END:VCALENDAR
