BEGIN:VCALENDAR
VERSION:2.0
PRODID:-//Extinction Rebellion Boston//Action//
BEGIN:VEVENT
SUMMARY:Flyer Arlington Town Hall
DTSTART:20240316T230000Z
DTEND:20240317T010000Z
DTSTAMP:20260425T164654Z
UID:1758@https://xrboston.org
CREATED:20260425T164654Z
DESCRIPTION:Event details: https://xrboston.org/action/flyer-arlington-tow
 n-hall/\n\nBeats for Eats! is having their annual fundraiser. Join XArling
 ton as we flyer outside the event in front of Arlington Town Hall to encou
 rage members of the Arlington community to come to the XR Earth Day Celebr
 ation.
LAST-MODIFIED:20240310T214543Z
LOCATION:Arlington Town Hall
ORGANIZER;CN="Extinction Rebellion Boston":MAILTO:outreach@xrboston.org
URL:https://xrboston.org/action/flyer-arlington-town-hall/
END:VEVENT
END:VCALENDAR
