BEGIN:VCALENDAR
VERSION:2.0
PRODID:-//Extinction Rebellion Boston//Action//
BEGIN:VEVENT
SUMMARY:Flyering and Postering in Arlington Center
DTSTART:20240316T160000Z
DTEND:20240316T180000Z
DTSTAMP:20260425T164654Z
UID:1757@https://xrboston.org
CREATED:20260425T164654Z
DESCRIPTION:Event details: https://xrboston.org/action/flyering-and-poster
 ing-in-arligton/\n\nJoin XArlington\, at Arlington Center to invite member
 s of the Arlington community to participate in the upcoming XR Earth Day C
 elebration.  \n\nRSVP to get the exact meeting location. We will meet at n
 oon then divide into extraverts\, who will pass out in flyers\, and intrav
 erts\, who will staple and wheat paste posters around the neighborhood.
LAST-MODIFIED:20240311T011200Z
LOCATION:Arlington Center (RSVP for Specific Location)
ORGANIZER;CN="Extinction Rebellion Boston":MAILTO:outreach@xrboston.org
URL:https://xrboston.org/action/flyering-and-postering-in-arligton/
END:VEVENT
END:VCALENDAR
