BEGIN:VCALENDAR
VERSION:2.0
PRODID:-//Extinction Rebellion Boston//Action//
BEGIN:VEVENT
SUMMARY:XR Boston General Meeting
DTSTART:20251022T220000Z
DTEND:20251023T000000Z
DTSTAMP:20260422T085518Z
UID:2165@https://xrboston.org
CREATED:20260422T085518Z
DESCRIPTION:Event details: https://xrboston.org/action/general-meeting-202
 5-10/\n\nJoin us for XR Boston's monthly chapter-wide community gathering!
  This is the place for new and old members to meet\, mingle\, and connect 
 with our community.\n\nThis month we'll be having plant-based potluck\, in
 -person Peacekeeping and De-Escalation Training\, art making\, and a book 
 club!\n\n**Timeline**\n\n**6:00 - 6:45**: Arrive\, socialize\, eat! If you
  can bring a plant-based dish or snack to share\, that's appreciated\, but
  if that's a barrier to accessiblity\, don't worry...the hosts will be mak
 ing sure there's a bountiful spread.\n\n**6:45 - 7:00**: Circle up for int
 roductions and announcements.\n\n**7:00- 8:00**: For those interested\, th
 ere will be an in-person Peacekeeping and De-Escalation training. Or\, joi
 n in on building art for our big action on October 30th.\n\n**8:00 - 9:00*
 *: Join follow XR members for a book club discussing "*Facing the Climate 
 Emergency*" by Margaret Klein Salamon. XR Boston distributes free copies o
 f this book\, which you may be able to pick up at an event before this! Th
 is is also your chance to nominate and decide next month's book!\n\nIf you
 're a member of a Working Group or Affinity Group that would like space fo
 r an in-person meeting\, you will be able to find time and space at some p
 oint here!
LAST-MODIFIED:20251019T011232Z
LOCATION:Puppet Free Library\, 15 Public Alley 437 # 437\, Boston\, MA 021
 16
ORGANIZER;CN="Extinction Rebellion Boston":MAILTO:outreach@xrboston.org
URL:https://xrboston.org/action/general-meeting-2025-10/
END:VEVENT
END:VCALENDAR
